BEGIN:VCALENDAR
VERSION:2.0
PRODID:-//Squarespace Inc/Squarespace 6//v6//EN
BEGIN:VEVENT
UID:59eeab8f268b9615dbc551a2@squarespace.com
DTSTAMP:20171024T025751Z
DTSTART:20171024T030000Z
DTEND:20171024T040000Z
SUMMARY:New event title here
GEO:-36.736373;174.694027
LOCATION:Ecentre\, Gate 5\, Massey University\, Oaklands Rd\, Albany\, Auck
 land\, New Zealand
END:VEVENT
END:VCALENDAR
