BEGIN:VCALENDAR
VERSION:2.0
PRODID:-//Squarespace Inc/Squarespace 6//v6//EN
BEGIN:VEVENT
UID:5baaa2fca4222fa15f35bc3c@squarespace.com
DTSTAMP:20180925T211417Z
DTSTART:20181003T041500Z
DTEND:20181003T061500Z
SUMMARY:Ask Angels Anything 
GEO:-36.736373;174.694027
LOCATION:ecentre\, Gate 5\, Oaklands Road\, Massey University\, Albany\, Ne
 w Zealand
END:VEVENT
END:VCALENDAR
