BEGIN:VCALENDAR
VERSION:2.0
PRODID:-//Squarespace Inc/Squarespace 6//v6//EN
BEGIN:VEVENT
UID:5ba880169140b7576384d3e4@squarespace.com
DTSTAMP:20181023T013611Z
DTSTART:20181107T011500Z
DTEND:20181107T041500Z
SUMMARY:Startup Workshops: Navigating Customer Journeys (Part 2/2) 
GEO:-36.736373;174.694027
LOCATION:ecentre\, Gate 5\, Oaklands Road\, Massey University\, Albany\, Ne
 w Zealand
END:VEVENT
END:VCALENDAR
