BEGIN:VCALENDAR
VERSION:2.0
PRODID:-//Squarespace Inc/Squarespace 6//v6//EN
BEGIN:VEVENT
UID:5ba85a190d9297701b182724@squarespace.com
DTSTAMP:20180924T061328Z
DTSTART:20181015T224500Z
DTEND:20181015T234500Z
SUMMARY:Startup Workshops: Navigating Customer Journeys (Part 1/2)
GEO:-36.736373;174.694027
LOCATION:ecentre\, Gate 5\, Oaklands Road\, Massey University\, Albany\, Ne
 w Zealand
END:VEVENT
END:VCALENDAR
