BEGIN:VCALENDAR
VERSION:2.0
PRODID:-//Squarespace Inc/Squarespace 6//v6//EN
BEGIN:VEVENT
UID:5ba87e48e2c4832fe2af7e5e@squarespace.com
DTSTAMP:20181001T042512Z
DTSTART:20181029T224500Z
DTEND:20181029T234500Z
SUMMARY:Startup Workshops: Design Thinking for Innovators and Entrepreneurs 
GEO:-36.736373;174.694027
LOCATION:ecentre\, Gate 5\, Oaklands Road\, Massey University\, Albany\, Ne
 w Zealand
END:VEVENT
END:VCALENDAR
