BEGIN:VCALENDAR
VERSION:2.0
PRODID:-//Squarespace Inc/Squarespace 6//v6//EN
BEGIN:VEVENT
UID:5a832df0e4966b69c091eb29@squarespace.com
DTSTAMP:20180313T235310Z
DTSTART:20180312T224500Z
DTEND:20180312T234500Z
SUMMARY:Business Models - Startup Toolkit Series
END:VEVENT
END:VCALENDAR
