BEGIN:VCALENDAR
VERSION:2.0
PRODID:-//Squarespace Inc/Squarespace 6//v6//EN
BEGIN:VEVENT
UID:5aa86466ec212dd64559e918@squarespace.com
DTSTAMP:20180319T005408Z
DTSTART:20180326T224500Z
DTEND:20180326T234500Z
SUMMARY:Startup Toolkit Series: Customer Discovery
END:VEVENT
END:VCALENDAR
