BEGIN:VCALENDAR
VERSION:2.0
PRODID:-//Squarespace Inc/Squarespace 6//v6//EN
BEGIN:VEVENT
UID:5ade7f1088251b24a35cf245@squarespace.com
DTSTAMP:20180502T223449Z
DTSTART:20180521T234500Z
DTEND:20180522T004500Z
SUMMARY:Startup Toolkit Series: IP Strategy and Protection 
END:VEVENT
END:VCALENDAR
