BEGIN:VCALENDAR
VERSION:2.0
PRODID:-//Squarespace Inc/Squarespace 6//v6//EN
BEGIN:VEVENT
UID:5ac3ee000e2e728e83ba7443@squarespace.com
DTSTAMP:20180424T004805Z
DTSTART:20180423T234500Z
DTEND:20180424T004500Z
SUMMARY:Startup Toolkit Series: Funding your Startup with Private and Grant 
 Funding
END:VEVENT
END:VCALENDAR
