BEGIN:VCALENDAR
VERSION:2.0
PRODID:-//Squarespace Inc/Squarespace 6//v6//EN
BEGIN:VEVENT
UID:5a975613652dea1afc71b8e9@squarespace.com
DTSTAMP:20180308T011442Z
DTSTART:20180311T184500Z
DTEND:20180312T014500Z
SUMMARY:IoT Product Innovation Workshop
GEO:-36.843409;174.756977
LOCATION:GridAKL\, 101 Pakenham Street West\, Auckland\, Auckland\, 1010\, 
 New Zealand
END:VEVENT
END:VCALENDAR
