BEGIN:VCALENDAR
VERSION:2.0
PRODID:-//Squarespace Inc/Squarespace 6//v6//EN
BEGIN:VEVENT
UID:5a8cb8f324a694687c64c34b@squarespace.com
DTSTAMP:20180308T011957Z
DTSTART:20180320T221500Z
DTEND:20180321T001500Z
SUMMARY:Impact Challenge 2018 @ Massey
GEO:-36.733982;174.701416
LOCATION:Wonder Room\, 1/5 University Avenue\, Gate 1 Massey University\, A
 uckland\, Auckland\, 0632\, New Zealand
END:VEVENT
END:VCALENDAR
