BEGIN:VCALENDAR
VERSION:2.0
PRODID:-//Squarespace Inc/Squarespace 6//v6//EN
BEGIN:VEVENT
UID:5b0b8c7f758d461b37f13b8c@squarespace.com
DTSTAMP:20180528T053509Z
DTSTART:20180618T234500Z
DTEND:20180619T004500Z
SUMMARY:Startup Toolkit Series: Structuring your startup for success
GEO:-36.736373;174.694027
LOCATION:ecentre\, Gate 5\, Oaklands Road\, Massey University\, Albany\, Ne
 w Zealand
END:VEVENT
END:VCALENDAR
