BEGIN:VCALENDAR
VERSION:2.0
PRODID:-//Squarespace Inc/Squarespace 6//v6//EN
BEGIN:VEVENT
UID:5b344813f950b76e6eaf834b@squarespace.com
DTSTAMP:20180628T023629Z
DTSTART:20180709T234500Z
DTEND:20180710T004500Z
SUMMARY:Startup Toolkit Series: Accounting for Startups
GEO:-36.736373;174.694027
LOCATION:ecentre\, Gate 5\, Oaklands Road\, Massey University\, Albany\, Ne
 w Zealand
END:VEVENT
END:VCALENDAR
