BEGIN:VCALENDAR
VERSION:2.0
PRODID:-//Squarespace Inc/Squarespace 6//v6//EN
BEGIN:VEVENT
UID:5b3449e26d2a7317ca0f0e03@squarespace.com
DTSTAMP:20180628T024138Z
DTSTART:20180716T234500Z
DTEND:20180717T004500Z
SUMMARY:Startup Toolkit Series: Digital Marketing
GEO:-36.736373;174.694027
LOCATION:ecentre\, Gate 5\, Oaklands Road\, Massey University\, Albany\, Ne
 w Zealand
END:VEVENT
END:VCALENDAR
