BEGIN:VCALENDAR
VERSION:2.0
PRODID:-//Squarespace Inc/Squarespace 6//v6//EN
BEGIN:VEVENT
UID:5b5ee404f950b7feeb93c03d@squarespace.com
DTSTAMP:20180924T032928Z
DTSTART:20180730T234500Z
DTEND:20180731T004500Z
SUMMARY:Startup Toolkit Series: Branding for Startups
GEO:-36.736373;174.694027
LOCATION:ecentre\, Gate 5\, Oaklands Road\, Massey University\, Albany\, Ne
 w Zealand
END:VEVENT
END:VCALENDAR
