BEGIN:VCALENDAR
VERSION:2.0
PRODID:-//Squarespace Inc/Squarespace 6//v6//EN
BEGIN:VEVENT
UID:5b344b16f950b76e6eaff5f0@squarespace.com
DTSTAMP:20180809T062709Z
DTSTART:20180827T234500Z
DTEND:20180828T004500Z
SUMMARY:Startup Toolkit Series: Governance
GEO:-36.736373;174.694027
LOCATION:ecentre\, Gate 5\, Oaklands Road\, Massey University\, Albany\, Ne
 w Zealand
END:VEVENT
END:VCALENDAR
