BEGIN:VCALENDAR
VERSION:2.0
PRODID:-//Squarespace Inc/Squarespace 6//v6//EN
BEGIN:VEVENT
UID:5c08537f1ae6cf7e03851734@squarespace.com
DTSTAMP:20181210T002308Z
DTSTART:20181212T221500Z
DTEND:20181212T231500Z
SUMMARY:Creativity + Innovation = Entrepreneurship: What Could Possibly Go 
 Wrong? with Dr Marcus Powe
GEO:-36.725942;174.698313
LOCATION:Massey Business School\, Albany Expressway\, Room MBS2.15 (Buildin
 g 10 on map\, Level 2)\, Albany\, New Zealand
END:VEVENT
END:VCALENDAR
