BEGIN:VCALENDAR
VERSION:2.0
PRODID:-//Squarespace Inc/Squarespace 6//v6//EN
BEGIN:VEVENT
UID:5b18c24a8a922dc70ef5d465@squarespace.com
DTSTAMP:20180607T054701Z
DTSTART:20180620T041500Z
DTEND:20180620T051500Z
SUMMARY:Startup Toolkit Manawatu: Maori Culture and Intellectual Property L
 aw
GEO:-40.386765;175.619553
LOCATION:ecentre at Massey University\, Palmerston North\, Room SGP1.02\, M
 assey University\, Palmerston North\, New Zealand
END:VEVENT
END:VCALENDAR
