BEGIN:VCALENDAR
VERSION:2.0
PRODID:-//Squarespace Inc/Squarespace 6//v6//EN
BEGIN:VEVENT
UID:5d01c561764aea00017e44a7@squarespace.com
DTSTAMP:20190801T002403Z
DTSTART:20190808T014500Z
DTEND:20190808T051500Z
SUMMARY:The 2019 ecentre Innovation Showcase
END:VEVENT
END:VCALENDAR
