BEGIN:VCALENDAR
VERSION:2.0
PRODID:-//Squarespace Inc/Squarespace 6//v6//EN
BEGIN:VEVENT
UID:5d6c6d65e4f17a0001a42deb@squarespace.com
DTSTAMP:20190902T011832Z
DTSTART:20191002T003000Z
DTEND:20191004T013000Z
SUMMARY:Tech Crunch Disrupt
END:VEVENT
END:VCALENDAR
