BEGIN:VCALENDAR
VERSION:2.0
PRODID:-//Squarespace Inc/Squarespace 6//v6//EN
BEGIN:VEVENT
UID:5d707f913541640001c61c9d@squarespace.com
DTSTAMP:20190919T015850Z
DTSTART:20191009T041500Z
DTEND:20191009T061500Z
SUMMARY:Startup 20/20 (West AKL) - Things to know before you get started.
GEO:-36.84846;174.763332
LOCATION:West Auckland\, Venue TBC\, Auckland\, New Zealand
END:VEVENT
END:VCALENDAR
