BEGIN:VCALENDAR
VERSION:2.0
PRODID:-//Squarespace Inc/Squarespace 6//v6//EN
BEGIN:VEVENT
UID:5d707a793541640001c5b4dc@squarespace.com
DTSTAMP:20190919T015819Z
DTSTART:20190925T051500Z
DTEND:20190925T071500Z
SUMMARY:Startup 20/20 (South AKL) - Things to know before you get started.
GEO:-36.736373;174.694027
LOCATION:ecentre\, Massey university\, Gate 5\, Oaklands Road\, Albany\, Au
 ckland\, New Zealand
END:VEVENT
END:VCALENDAR
