BEGIN:VCALENDAR
VERSION:2.0
PRODID:-//Squarespace Inc/Squarespace 6//v6//EN
BEGIN:VEVENT
UID:5c7d884524a694d3df691277@squarespace.com
DTSTAMP:20190605T035828Z
DTSTART:20190313T041500Z
DTEND:20190313T061500Z
SUMMARY:Professional Tech Entrepreneurs Meetup @ Fitzroy Lounge (Auckland C
 BD)
END:VEVENT
END:VCALENDAR
