BEGIN:VCALENDAR
VERSION:2.0
PRODID:-//Squarespace Inc/Squarespace 6//v6//EN
BEGIN:VEVENT
UID:5c7c7dcbee6eb044cf18dc3b@squarespace.com
DTSTAMP:20190715T042331Z
DTSTART:20190827T201500Z
DTEND:20190829T031500Z
SUMMARY:Starting Blocks - August 2019 (Palmerston North)
GEO:-40.352306;175.608215
LOCATION:Palmerston North\, New Zealand
END:VEVENT
END:VCALENDAR
