BEGIN:VCALENDAR
VERSION:2.0
PRODID:-//Squarespace Inc/Squarespace 6//v6//EN
BEGIN:VEVENT
UID:5c7c851f4192029036a7082b@squarespace.com
DTSTAMP:20190819T002744Z
DTSTART:20190908T234500Z
DTEND:20190909T004500Z
SUMMARY:Go Innovate! Workshop Three - Pitch Training (Auckland)
GEO:-36.732389;174.702741
LOCATION:Studio AKL (Wonder Room) - Main Campus\, Massey University\, Auckl
 and\, New Zealand
END:VEVENT
END:VCALENDAR
