BEGIN:VCALENDAR
VERSION:2.0
PRODID:-//Squarespace Inc/Squarespace 6//v6//EN
BEGIN:VEVENT
UID:5c7c848beb3931315923c448@squarespace.com
DTSTAMP:20190819T002659Z
DTSTART:20190818T234500Z
DTEND:20190819T004500Z
SUMMARY:Go Innovate! Workshop Two - Business Model (Auckland)
GEO:-36.732389;174.702741
LOCATION:Studio AKL (Wonder Room) - Main Campus\, Massey University\, Auckl
 and\, New Zealand
END:VEVENT
END:VCALENDAR
