BEGIN:VCALENDAR
VERSION:2.0
PRODID:-//Squarespace Inc/Squarespace 6//v6//EN
BEGIN:VEVENT
UID:5cd9e48a65be010001abf993@squarespace.com
DTSTAMP:20190513T215318Z
DTSTART:20190519T194500Z
DTEND:20190520T023000Z
SUMMARY:Techweek: ON: futures in tech
GEO:-36.845547;174.752104
LOCATION:Victory Convention Centre
END:VEVENT
END:VCALENDAR
