BEGIN:VCALENDAR
VERSION:2.0
PRODID:-//Squarespace Inc/Squarespace 6//v6//EN
BEGIN:VEVENT
UID:5c7c85a0b208fcd4072b599e@squarespace.com
DTSTAMP:20190905T011441Z
DTSTART:20190916T044500Z
DTEND:20190916T064500Z
SUMMARY:Go Innovate! Finals (Auckland)
GEO:-36.736373;174.694027
LOCATION:Studio AKL (Wonder Room) - Main Campus\, Massey University\, Auckl
 and\, New Zealand
END:VEVENT
END:VCALENDAR
