BEGIN:VCALENDAR
VERSION:2.0
PRODID:-//Squarespace Inc/Squarespace 6//v6//EN
BEGIN:VEVENT
UID:5b8353bb032be4d68a4ce3f7@squarespace.com
DTSTAMP:20180827T013254Z
DTSTART:20180926T044500Z
DTEND:20180926T054500Z
SUMMARY:5in5 Speaker Series
GEO:-40.352306;175.608215
LOCATION:MUSA Student Lounge\, Massey Palmerston North
END:VEVENT
END:VCALENDAR
