BEGIN:VCALENDAR
VERSION:2.0
PRODID:-//Squarespace Inc/Squarespace 6//v6//EN
BEGIN:VEVENT
UID:5b4d3a55f950b74e0173eef0@squarespace.com
DTSTAMP:20180718T220753Z
DTSTART:20180802T051500Z
DTEND:20180802T061500Z
SUMMARY:5in5 Speaker Series
GEO:-40.352306;175.608215
LOCATION:Room SSLB5\, Massey Palmerston North
END:VEVENT
END:VCALENDAR
