BEGIN:VCALENDAR
VERSION:2.0
PRODID:-//Squarespace Inc/Squarespace 6//v6//EN
BEGIN:VEVENT
UID:59f66b5410952624f5688410@squarespace.com
DTSTAMP:20180313T233528Z
DTSTART:20180327T181500Z
DTEND:20180327T221500Z
SUMMARY:ecentre Sprint Programme - March
GEO:-36.736373;174.694027
LOCATION:ecentre Limited\, Gate 5\, Oaklands Road\, Massey University\, Alb
 any\, Auckland
END:VEVENT
END:VCALENDAR
