BEGIN:VCALENDAR
VERSION:2.0
PRODID:-//Squarespace Inc/Squarespace 6//v6//EN
BEGIN:VEVENT
UID:5b18bffd562fa7c61be71232@squarespace.com
DTSTAMP:20180607T052000Z
DTSTART:20180701T191500Z
DTEND:20180701T231500Z
SUMMARY:ecentre Sprint Programme - July
GEO:-36.736373;174.694027
LOCATION:ecentre Limited\, Gate 5\, Oaklands Road\, Massey University\, Alb
 any\, Auckland
END:VEVENT
END:VCALENDAR
