BEGIN:VCALENDAR
VERSION:2.0
PRODID:-//Squarespace Inc/Squarespace 6//v6//EN
BEGIN:VEVENT
UID:5b0b983003ce64b89532eab5@squarespace.com
DTSTAMP:20180528T055142Z
DTSTART:20180610T191500Z
DTEND:20180610T231500Z
SUMMARY:ecentre Sprint Programme - June
GEO:-36.736373;174.694027
LOCATION:ecentre Limited\, Gate 5\, Oaklands Road\, Massey University\, Alb
 any\, Auckland
END:VEVENT
END:VCALENDAR
