BEGIN:VCALENDAR
VERSION:2.0
PRODID:-//Squarespace Inc/Squarespace 6//v6//EN
BEGIN:VEVENT
UID:5a4d96a853450aa56e1edd14@squarespace.com
DTSTAMP:20180206T225344Z
DTSTART:20180305T181500Z
DTEND:20180305T221500Z
SUMMARY:ecentre Sprint Programme - March 2018
GEO:-36.736373;174.694027
LOCATION:ecentre Limited\, Gate 5\, Oaklands Road\, Massey University\, Alb
 any\, Auckland
END:VEVENT
END:VCALENDAR
