BEGIN:VCALENDAR
VERSION:2.0
PRODID:-//Squarespace Inc/Squarespace 6//v6//EN
BEGIN:VEVENT
UID:59f666d32774d1138b9e170a@squarespace.com
DTSTAMP:20180405T084400Z
DTSTART:20180409T200000Z
DTEND:20180409T204500Z
SUMMARY:Professional Entrepreneurs Network - April
GEO:-36.736373;174.694027
LOCATION:ecentre Limited\, Gate 5 Oaklands Road\, Massey University\, Alban
 y\, Auckland
END:VEVENT
END:VCALENDAR
