BEGIN:VCALENDAR
VERSION:2.0
PRODID:-//Squarespace Inc/Squarespace 6//v6//EN
BEGIN:VEVENT
UID:5b18bdb92b6a28f91fa9bbfd@squarespace.com
DTSTAMP:20180607T051643Z
DTSTART:20180702T204500Z
DTEND:20180702T213000Z
SUMMARY:Professional Entrepreneurs Network - July
GEO:-36.736373;174.694027
LOCATION:ecentre Limited\, Gate 5 Oaklands Road\, Massey University\, Alban
 y\, Auckland
END:VEVENT
END:VCALENDAR
