BEGIN:VCALENDAR
VERSION:2.0
PRODID:-//Squarespace Inc/Squarespace 6//v6//EN
BEGIN:VEVENT
UID:59f668ac9140b70add8842ff@squarespace.com
DTSTAMP:20180405T083923Z
DTSTART:20180604T204500Z
DTEND:20180604T213000Z
SUMMARY:Professional Entrepreneurs Network - June
GEO:-36.736373;174.694027
LOCATION:ecentre Limited\, Gate 5 Oaklands Road\, Massey University\, Alban
 y\, Auckland
END:VEVENT
END:VCALENDAR
