BEGIN:VCALENDAR
VERSION:2.0
PRODID:-//Squarespace Inc/Squarespace 6//v6//EN
BEGIN:VEVENT
UID:59f665e89140b70add88061a@squarespace.com
DTSTAMP:20180305T015502Z
DTSTART:20180305T194500Z
DTEND:20180305T203000Z
SUMMARY:Professional Entrepreneurs Network - March
GEO:-36.736373;174.694027
LOCATION:ecentre Limited\, Gate 5 Oaklands Road\, Massey University\, Alban
 y\, Auckland
END:VEVENT
END:VCALENDAR
