BEGIN:VCALENDAR
VERSION:2.0
PRODID:-//Squarespace Inc/Squarespace 6//v6//EN
BEGIN:VEVENT
UID:5a9dca060d92971220842af9@squarespace.com
DTSTAMP:20180308T000006Z
DTSTART:20180305T230000Z
DTEND:20180406T010000Z
SUMMARY:Online Marketing Assistant 
GEO:-36.736373;174.694027
LOCATION:LearningPlanet Room 1.02\, Gate 5 (ecentre) Oaklands Road\, Massey 
 University\, Albany\, Auckland\, New Zealand
END:VEVENT
END:VCALENDAR
