BEGIN:VCALENDAR
VERSION:2.0
PRODID:-//Squarespace Inc/Squarespace 6//v6//EN
BEGIN:VEVENT
UID:5a9dc70e71c10b9a0b038f52@squarespace.com
DTSTAMP:20180307T235450Z
DTSTART:20180305T230000Z
DTEND:20180406T010000Z
SUMMARY:Review our extensive blog and offline content
GEO:40.720756;-74.000761
LOCATION:Mobit Technologies\, Room 1.03\, Gate 5 (ecentre) Oaklands Road\, 
 Massey University
END:VEVENT
END:VCALENDAR
